BEGIN:VCALENDAR
VERSION:2.0
PRODID:gruene-freising.de
METHOD:PUBLISH
BEGIN:VTIMEZONE
TZID:Europe/Berlin
X-LIC-LOCATION:Europe/Berlin
BEGIN:DAYLIGHT
TZOFFSETFROM:+0100
TZOFFSETTO:+0200
TZNAME:CEST
DTSTART:19700329T020000
RRULE:FREQ=YEARLY;INTERVAL=1;BYDAY=-1SU;BYMONTH=3
END:DAYLIGHT
BEGIN:STANDARD
TZOFFSETFROM:+0200
TZOFFSETTO:+0100
TZNAME:CET
DTSTART:19701025T030000
RRULE:FREQ=YEARLY;INTERVAL=1;BYDAY=-1SU;BYMONTH=10
END:STANDARD
END:VTIMEZONE
BEGIN:VEVENT
UID:fbe6d3a337eba1ba60c2ade66937a07b@gruene-freising.de
URL;VALUE=URI:https://gruene-freising.de/termine/kreisversammlung-2/
LOCATION:Stadl, Eschenweg 2 Neufahrn

SUMMARY:Kreisversammlung
DESCRIPTION;ALTREP="data:text/html,%3Cp%3E19%20Uhr%20Stammtisch%3Cbr%20%2
 F%3E%0A20%20Uhr%20Kreisversammlung.%20%3Cbr%20%2F%3E%0Au.a.%20Wahl%20der%
 20Delegierten%20zur%20Bezirkskonferenz%20Oberbayern.%3C%2Fp%3E":19 Uhr St
 ammtisch\n\n20 Uhr Kreisversammlung.\n\nu.a. Wahl der Delegierten zur Bez
 irkskonferenz Oberbayern.
CLASS:PUBLIC
DTSTART;TZID=Europe/Berlin:20260430T190000
DTEND;TZID=Europe/Berlin:20260430T220000
DTSTAMP:20260425T160158
END:VEVENT
END:VCALENDAR