BEGIN:VCALENDAR
VERSION:2.0
PRODID:gruene-freising.de
METHOD:PUBLISH
BEGIN:VTIMEZONE
TZID:Europe/Berlin
X-LIC-LOCATION:Europe/Berlin
BEGIN:DAYLIGHT
TZOFFSETFROM:+0100
TZOFFSETTO:+0200
TZNAME:CEST
DTSTART:19700329T020000
RRULE:FREQ=YEARLY;INTERVAL=1;BYDAY=-1SU;BYMONTH=3
END:DAYLIGHT
BEGIN:STANDARD
TZOFFSETFROM:+0200
TZOFFSETTO:+0100
TZNAME:CET
DTSTART:19701025T030000
RRULE:FREQ=YEARLY;INTERVAL=1;BYDAY=-1SU;BYMONTH=10
END:STANDARD
END:VTIMEZONE
BEGIN:VEVENT
UID:8aab2d3e137e558c118f7dfcd16c7ae9@gruene-freising.de
URL;VALUE=URI:https://gruene-freising.de/termine/naturbegehung-mit-mdep-j
 utta-paulus/
LOCATION:wird bei der Anmeldung bekanntgegeben
SUMMARY:Naturbegehung mit mdEP Jutta Paulus
DESCRIPTION;ALTREP="data:text/html,%3Cp%3EAnmeldung%20bei%20maximilian.br
 eu%40gruene-freising.de%3Cbr%20%2F%3E%0A%3C%2Fp%3E":Anmeldung bei maximil
 ian.breu@gruene-freising.de
CLASS:PUBLIC
DTSTART;TZID=Europe/Berlin:20260424T140000
DTEND;TZID=Europe/Berlin:20260424T160000
DTSTAMP:20260420T140933
END:VEVENT
END:VCALENDAR