BEGIN:VCALENDAR
VERSION:2.0
PRODID:gruene-freising.de
METHOD:PUBLISH
BEGIN:VTIMEZONE
TZID:Europe/Berlin
X-LIC-LOCATION:Europe/Berlin
BEGIN:DAYLIGHT
TZOFFSETFROM:+0100
TZOFFSETTO:+0200
TZNAME:CEST
DTSTART:19700329T020000
RRULE:FREQ=YEARLY;INTERVAL=1;BYDAY=-1SU;BYMONTH=3
END:DAYLIGHT
BEGIN:STANDARD
TZOFFSETFROM:+0200
TZOFFSETTO:+0100
TZNAME:CET
DTSTART:19701025T030000
RRULE:FREQ=YEARLY;INTERVAL=1;BYDAY=-1SU;BYMONTH=10
END:STANDARD
END:VTIMEZONE
BEGIN:VEVENT
UID:051d7db092fe549b9be5b459b2ff7de9@gruene-freising.de
URL;VALUE=URI:https://gruene-freising.de/termine/pflanzentauschboerse/
LOCATION:Am Büchl 4, 85354 Freising
SUMMARY:Pflanzentauschbörse
DESCRIPTION;ALTREP="data:text/html,%3Cp%3EIhr%20habt%20%C3%BCbersch%C3%BC
 ssige%20Pflanzen%20oder%20Ableger%3F%20Oder%20wollt%20Ihr%20Eure%20%E2%80
 %9Egr%C3%BCne%20Sammlung%E2%80%9C%20mit%20neuen%20Sch%C3%A4tzen%20bereich
 ern%3F%20Oder%20habt%20B%C3%BCcher%20%C3%BCbrig%2C%20die%20sich%20mit%20d
 em%20Thema%20Garten%20und%20G%C3%A4rtnern%20besch%C3%A4ftigen%3F%3Cbr%20%
 2F%3E%0ADann%20seid%20Ihr%20richtig%20bei%20der%20Pflanzentauschb%C3%B6rs
 e%20von%20B%C3%9CNDNIS%2090%2FDIE%20GR%C3%9CNEN%20in%20Freising.%3Cbr%20%
 2F%3E%0AAm%20Samstag%2C%20den%2025.04.2026%20hei%C3%9Ft%20es%20wieder%20s
 chauen%2C%20mitbringen%2C%20tauschen%2C%20mitnehmen%2C%20fachsimpeln.%3Cb
 r%20%2F%3E%0AVon%2010%20bis%2013%20Uhr%20erwartet%20Euch%20bei%20der%20Tr
 eppe%20Am%20B%C3%BCchl%20%2F%20General%20von%20Nagel%20Stra%C3%9Fe%20%28N
 %C3%A4he%20Eiscaf%C3%A9%20Da%20Sandro%29%20eine%20bunte%20Vielfalt%20an%2
 0Setzlingen%2C%20Pflanzen%2C%20Ablegern%20und%20Samen%20f%C3%BCr%20Balkon
 %20und%20Garten.%3Cbr%20%2F%3E%0AGerne%20auch%20Zeitung%20und%20T%C3%B6pf
 e%20zum%20Einpacken%20mitbringen%21%3Cbr%20%2F%3E%0AWer%20keine%20Zeit%20
 hat%2C%20aber%20was%20zum%20Spenden%2C%20kann%20sich%20gerne%20bei%20Tanj
 a%3Cbr%20%2F%3E%0A%20melden.%20%3C%2Fp%3E":Ihr habt überschüssige Pflan
 zen oder Ableger? Oder wollt Ihr Eure „grüne Sammlung“ mit neuen Sch
 ätzen bereichern? Oder habt Bücher übrig\, die sich mit dem Thema Gart
 en und Gärtnern beschäftigen?\n\nDann seid Ihr richtig bei der Pflanzen
 tauschbörse von BÜNDNIS 90/DIE GRÜNEN in Freising.\n\nAm Samstag\, den
  25.04.2026 heißt es wieder schauen\, mitbringen\, tauschen\, mitnehmen\
 , fachsimpeln.\n\nVon 10 bis 13 Uhr erwartet Euch bei der Treppe Am Büch
 l / General von Nagel Straße (Nähe Eiscafé Da Sandro) eine bunte Vielf
 alt an Setzlingen\, Pflanzen\, Ablegern und Samen für Balkon und Garten.
 \n\nGerne auch Zeitung und Töpfe zum Einpacken mitbringen!\n\nWer keine 
 Zeit hat\, aber was zum Spenden\, kann sich gerne bei Tanja\n\n melden.
CLASS:PUBLIC
DTSTART;TZID=Europe/Berlin:20260425T100000
DTEND;TZID=Europe/Berlin:20260425T130000
DTSTAMP:20260420T141921
END:VEVENT
END:VCALENDAR