BEGIN:VCALENDAR
VERSION:2.0
PRODID:gruene-freising.de
METHOD:PUBLISH
BEGIN:VTIMEZONE
TZID:Europe/Berlin
X-LIC-LOCATION:Europe/Berlin
BEGIN:DAYLIGHT
TZOFFSETFROM:+0100
TZOFFSETTO:+0200
TZNAME:CEST
DTSTART:19700329T020000
RRULE:FREQ=YEARLY;INTERVAL=1;BYDAY=-1SU;BYMONTH=3
END:DAYLIGHT
BEGIN:STANDARD
TZOFFSETFROM:+0200
TZOFFSETTO:+0100
TZNAME:CET
DTSTART:19701025T030000
RRULE:FREQ=YEARLY;INTERVAL=1;BYDAY=-1SU;BYMONTH=10
END:STANDARD
END:VTIMEZONE
BEGIN:VEVENT
UID:96f2cfad68da8bd826f5d0e2de0a6130@gruene-freising.de
URL;VALUE=URI:https://gruene-freising.de/termine/radltour-am-30-juni/
LOCATION:Startpunkt Rathaus Marzling
SUMMARY:Radltour am 30. Juni
DESCRIPTION;ALTREP="data:text/html,%0A%3Ch1%20class%3D%22wp-block-heading
 %22%3E%3Ca%20href%3D%22https%3A%2F%2Fgruene-marzling.de%2F2021%2F06%2F22%
 2Feinladung-zur-radltour-am-mittwoch-den-30-juni-2021%2F%22%3EEinladung%2
 0zur%20Radltour%20am%20Mittwoch%2C%20den%2030.%20Juni%202021%3C%2Fa%3E%3C
 %2Fh1%3E%0A%0A%0A%0A%3Cp%3Ewir%20m%C3%B6chten%20euch%20herzlich%20einlade
 n%20zu%20einer%20%3Cstrong%3Ekleinen%20Radltour%20am%20Mittwoch%2C%20den%
 2030.%20Juni%202021%2C%20Beginn%3A%2018%20Uhr%2C%20Treffpunkt%20Rathaus.%
 3C%2Fstrong%3E%3C%2Fp%3E%0A%0A%0A%0A%3Cp%3EAm%20Sonntag%20startet%20ja%20
 die%20Aktion%20STADTRADELN%20und%20wir%20haben%20auch%20schon%20eine%20Gr
 uppe%20%E2%80%9EGr%C3%BCne%20Radler%2Ainnen%20f%C3%BCr%20Marzling%E2%80%9
 C%20gegr%C3%BCndet.%20Wir%20freuen%20uns%20%C3%BCber%20alle%2C%20die%20no
 ch%20mitmachen%20und%20sich%20%C3%BCber%20%3Ca%20rel%3D%22noreferrer%20no
 opener%22%20href%3D%22http%3A%2F%2Fwww.stadtradeln.de%22%20target%3D%22_b
 lank%22%3Ewww.stadtradeln.de%3C%2Fa%3E%20in%20unserer%20oder%20einer%20an
 deren%20Gruppe%20registrieren%21%20Wir%20wollen%20STADTRADELN%20nutzen%20
 und%20die%20Sch%C3%B6nheit%20von%20Marzling%20und%20seinen%20%E2%80%9EAu%
 C3%9Fenbezirken%E2%80%9C%20kennenlernen.%20Deshalb%20fahren%20wir%20vom%2
 0Rathaus%20in%20die%20Riegerau%20zum%20Hofladen%20Wimmer%2C%20wo%20wir%20
 kurz%20%C3%BCber%20regionale%20Produkte%20und%20Direktvermarktung%20mit%2
 0dem%20Ehepaar%20Wimmer%20sprechen%20werden.%20Anschlie%C3%9Fend%20radeln
 %20wir%20runter%20zum%20Biergarten%20Stoiberm%C3%BChle%2C%20wo%20unser%20
 Kandidat%20zur%20Bundestagswahl%2C%20Leon%20Eckert%2C%20das%20gr%C3%BCne%
 20Wahlprogramm%20erl%C3%A4utert%20und%20worauf%20es%20ihm%20in%20diesem%2
 0Wahlkampf%20ankommt.%20Leon%20radelt%20selbstverst%C3%A4ndlich%20auch%20
 mit%21%20An%20der%20Stoiberm%C3%BChle%20lassen%20wir%20den%20fu%C3%9Fball
 freien%20Abend%20gem%C3%BCtlich%20ausklingen.%3C%2Fp%3E%0A%0A%0A%0A%3Cp%3
 EWir%20freuen%20uns%20%C3%BCber%20zahlreiche%20Teilnehmer%2Ainnen%20und%2
 0viele%20Kilometer%20f%C3%BCrs%20Stadtradeln%21%20Bitte%20gebt%20die%20Ei
 nladung%20gerne%20weiter%21%3C%2Fp%3E%0A%0A%0A%0A%3Cp%3ECoronabedingt%20m
 %C3%BCssen%20wir%20um%20Anmeldung%20zur%20Radltour%20bitte%2C%20am%20einf
 achsten%20als%20direkte%20Antwort%20an%20diese%20Adresse%20oder%20an%20%3
 Ca%20href%3D%22mailto%3Ainfo%40gruene-marzling.de%22%3Einfo%40gruene-marz
 ling.de%3C%2Fa%3E%20mit%20Nennung%20von%20Namen%20und%20wie%20viele%20Per
 sonen%20teilnehmen%20werden.%20Vielen%20Dank.%3C%2Fp%3E%0A%0A%0A%0A%3Cp%3
 ESollte%20es%20am%20Mittwoch%2C%20den%2030.%20Juni%20regnen%2C%20entf%C3%
 A4llt%20die%20Radtour%20und%20wir%20treffen%20uns%20ab%2019%20Uhr%20zu%20
 einem%20Offenen%20Stammtisch%20in%20der%20Pizzeria%20Da%20Vito%20am%20Spo
 rtplatz.%3C%2Fp%3E%0A":Einladung zur Radltour am Mittwoch\, den 30. Juni 
 2021\n\nwir möchten euch herzlich einladen zu einer kleinen Radltour am 
 Mittwoch\, den 30. Juni 2021\, Beginn: 18 Uhr\, Treffpunkt Rathaus.\n\nAm
  Sonntag startet ja die Aktion STADTRADELN und wir haben auch schon eine 
 Gruppe „Grüne Radler*innen für Marzling“ gegründet. Wir freuen uns
  über alle\, die noch mitmachen und sich über www.stadtradeln.de in uns
 erer oder einer anderen Gruppe registrieren! Wir wollen STADTRADELN nutze
 n und die Schönheit von Marzling und seinen „Außenbezirken“ kennenl
 ernen. Deshalb fahren wir vom Rathaus in die Riegerau zum Hofladen Wimmer
 \, wo wir kurz über regionale Produkte und Direktvermarktung mit dem Ehe
 paar Wimmer sprechen werden. Anschließend radeln wir runter zum Biergart
 en Stoibermühle\, wo unser Kandidat zur Bundestagswahl\, Leon Eckert\, d
 as grüne Wahlprogramm erläutert und worauf es ihm in diesem Wahlkampf a
 nkommt. Leon radelt selbstverständlich auch mit! An der Stoibermühle la
 ssen wir den fußballfreien Abend gemütlich ausklingen.\n\nWir freuen un
 s über zahlreiche Teilnehmer*innen und viele Kilometer fürs Stadtradeln
 ! Bitte gebt die Einladung gerne weiter!\n\nCoronabedingt müssen wir um 
 Anmeldung zur Radltour bitte\, am einfachsten als direkte Antwort an dies
 e Adresse oder an info@gruene-marzling.de mit Nennung von Namen und wie v
 iele Personen teilnehmen werden. Vielen Dank.\n\nSollte es am Mittwoch\, 
 den 30. Juni regnen\, entfällt die Radtour und wir treffen uns ab 19 Uhr
  zu einem Offenen Stammtisch in der Pizzeria Da Vito am Sportplatz.
CLASS:PUBLIC
DTSTART;TZID=Europe/Berlin:20210630T180000
DTEND;TZID=Europe/Berlin:20210630T190000
DTSTAMP:20260419T120343
END:VEVENT
END:VCALENDAR