BEGIN:VCALENDAR
VERSION:2.0
PRODID:gruene-freising.de
METHOD:PUBLISH
BEGIN:VTIMEZONE
TZID:Europe/Berlin
X-LIC-LOCATION:Europe/Berlin
BEGIN:DAYLIGHT
TZOFFSETFROM:+0100
TZOFFSETTO:+0200
TZNAME:CEST
DTSTART:19700329T020000
RRULE:FREQ=YEARLY;INTERVAL=1;BYDAY=-1SU;BYMONTH=3
END:DAYLIGHT
BEGIN:STANDARD
TZOFFSETFROM:+0200
TZOFFSETTO:+0100
TZNAME:CET
DTSTART:19701025T030000
RRULE:FREQ=YEARLY;INTERVAL=1;BYDAY=-1SU;BYMONTH=10
END:STANDARD
END:VTIMEZONE
BEGIN:VEVENT
UID:07961f4d43b11614d67c3eb7a6139002@gruene-freising.de
URL;VALUE=URI:https://gruene-freising.de/termine/stammtisch-am-moosburger
 -fruehlingsfest/
LOCATION:Metzgerei Huber, Viehmarktstraße 5, 85368 Moosburg an der Isar
SUMMARY:Stammtisch am Moosburger Frühlingsfest
DESCRIPTION;ALTREP="data:text/html,%3Cp%3EHerzliche%20Einladung%20an%20al
 le%20Mitglieder%20und%20Interessierte%20zum%20n%C3%A4chsten%20Treffen%20d
 er%20Gr%C3%BCnen%20Moosburg%20beim%20Stammtisch%20im%20Huber-Garten.%3Cbr
 %20%2F%3E%0A%3Cbr%20%2F%3E%0ANach%20Standkonzert%2C%20Auszug%20der%20Ehre
 ng%C3%A4ste%20und%20Anstich%20im%20Festzelt%20treffen%20wir%20uns%20bei%2
 0passender%20Witterung%20ab%2019%20Uhr%20im%20Huber-Garten.%3Cbr%20%2F%3E
 %0A%3Cbr%20%2F%3E%0AWeitere%20Infos%20zum%20Programm%20gibt%20es%20hier%3
 A%20https%3A%2F%2Fmeinmoosburg.de%2Fveranstaltungen%2Ffruehlingsfest-moos
 burg-2026%2F%3C%2Fp%3E":Herzliche Einladung an alle Mitglieder und Intere
 ssierte zum nächsten Treffen der Grünen Moosburg beim Stammtisch im Hub
 er-Garten.\n\nNach Standkonzert\, Auszug der Ehrengäste und Anstich im F
 estzelt treffen wir uns bei passender Witterung ab 19 Uhr im Huber-Garten
 .\n\nWeitere Infos zum Programm gibt es hier: https://meinmoosburg.de/ver
 anstaltungen/fruehlingsfest-moosburg-2026/
CLASS:PUBLIC
DTSTART;TZID=Europe/Berlin:20260430T190000
DTEND;TZID=Europe/Berlin:20260430T210000
DTSTAMP:20260423T150104
END:VEVENT
END:VCALENDAR