BEGIN:VCALENDAR
VERSION:2.0
PRODID:gruene-freising.de
METHOD:PUBLISH
BEGIN:VTIMEZONE
TZID:Europe/Berlin
X-LIC-LOCATION:Europe/Berlin
BEGIN:DAYLIGHT
TZOFFSETFROM:+0100
TZOFFSETTO:+0200
TZNAME:CEST
DTSTART:19700329T020000
RRULE:FREQ=YEARLY;INTERVAL=1;BYDAY=-1SU;BYMONTH=3
END:DAYLIGHT
BEGIN:STANDARD
TZOFFSETFROM:+0200
TZOFFSETTO:+0100
TZNAME:CET
DTSTART:19701025T030000
RRULE:FREQ=YEARLY;INTERVAL=1;BYDAY=-1SU;BYMONTH=10
END:STANDARD
END:VTIMEZONE
BEGIN:VEVENT
UID:df53a67785bbe3d1bac1b92f503eb2d2@gruene-freising.de
URL;VALUE=URI:https://gruene-freising.de/termine/stammtisch-mit-mdep-jutt
 a-paulus/
LOCATION:et Cetere Freising
SUMMARY:Stammtisch mit MdEP Jutta Paulus
DESCRIPTION;ALTREP="data:text/html,%3Cp%3EAustausch%20mit%20unsere%20Euro
 paabgeordneten%3C%2Fp%3E":Austausch mit unsere Europaabgeordneten
CLASS:PUBLIC
DTSTART;TZID=Europe/Berlin:20260424T170000
DTEND;TZID=Europe/Berlin:20260424T190000
DTSTAMP:20260420T140834
END:VEVENT
END:VCALENDAR